BEGIN:VCALENDAR
VERSION:2.0
PRODID:-//Sabre//Sabre VObject 4.5.8//EN
CALSCALE:GREGORIAN
BEGIN:VTIMEZONE
TZID:Europe/Zurich
X-LIC-LOCATION:Europe/Zurich
TZURL:http://tzurl.org/zoneinfo/Europe/Zurich
BEGIN:DAYLIGHT
TZOFFSETFROM:+0100
TZOFFSETTO:+0200
TZNAME:CEST
DTSTART:19810329T020000
RRULE:FREQ=YEARLY;BYMONTH=3;BYDAY=-1SU
END:DAYLIGHT
BEGIN:STANDARD
TZOFFSETFROM:+0200
TZOFFSETTO:+0100
TZNAME:CET
DTSTART:19961027T030000
RRULE:FREQ=YEARLY;BYMONTH=10;BYDAY=-1SU
END:STANDARD
END:VTIMEZONE
BEGIN:VEVENT
UID:news393@soziologie.philhist.unibas.ch
DTSTAMP;TZID=Europe/Zurich:20260421T101827
DTSTART;TZID=Europe/Zurich:20260714T181500
SUMMARY:Buchgespräch mit Matthias Leanza: "Kapitalismus. Geschichte einer 
 Weltrevolution" von Sven Beckert
DESCRIPTION:Am 14. Juli 2026 findet an der Albert-Ludwigs-Universität Frei
 burg im Rahmen der Reihe «Bücher\, über die man spricht» des Studium g
 enerale der Universität Freiburg in Kooperation mit dem Freiburg Institut
 e for Advanced Studies (FRIAS) eine Besprechung des Buches Kapitalismus. G
 eschichte einer Weltrevolution (Rowohlt Verlag\, Hamburg 2025) von Sven Be
 ckert statt.\\r\\nGäste: Sven Beckert (Harvard\, Autor des Buches)\, Jür
 gen Osterhammel\, Thomas Steiner und Matthias Leanza\\r\\nModeration: Wern
 er Frick 
X-ALT-DESC:<p>Am 14. Juli 2026 findet an der Albert-Ludwigs-Universität Fr
 eiburg im Rahmen der Reihe «Bücher\, über die man spricht» des Studium
  generale der Universität Freiburg in Kooperation mit dem Freiburg Instit
 ute for Advanced Studies (FRIAS) eine Besprechung des Buches <i><strong>Ka
 pitalismus. Geschichte einer Weltrevolution</strong></i> (Rowohlt Verlag\,
  Hamburg 2025) von Sven Beckert statt.</p>\n<p>Gäste: Sven Beckert (Harva
 rd\, Autor des Buches)\, Jürgen Osterhammel\, Thomas Steiner und Matthias
  Leanza</p>\n<p>Moderation: Werner Frick<br /><br /><br /><br />&nbsp\;</p
 >
END:VEVENT
END:VCALENDAR
